BEGIN:VCALENDAR
VERSION:2.0
PRODID:-//St. Joseph Church - ECPv5.11.0//NONSGML v1.0//EN
CALSCALE:GREGORIAN
METHOD:PUBLISH
X-WR-CALNAME:St. Joseph Church
X-ORIGINAL-URL:https://stjosephbogota.org
X-WR-CALDESC:Events for St. Joseph Church
BEGIN:VTIMEZONE
TZID:America/New_York
BEGIN:DAYLIGHT
TZOFFSETFROM:-0500
TZOFFSETTO:-0400
TZNAME:EDT
DTSTART:20250309T070000
END:DAYLIGHT
BEGIN:STANDARD
TZOFFSETFROM:-0400
TZOFFSETTO:-0500
TZNAME:EST
DTSTART:20251102T060000
END:STANDARD
END:VTIMEZONE
BEGIN:VEVENT
DTSTART;TZID=America/New_York:20251221T180000
DTEND;TZID=America/New_York:20251221T210000
DTSTAMP:20260421T061414
CREATED:20250718T221426Z
LAST-MODIFIED:20251221T202927Z
UID:73702-1766340000-1766350800@stjosephbogota.org
SUMMARY:CAF: Simbang Gabi Celebration
DESCRIPTION:
URL:https://stjosephbogota.org/event/caf-simbang-gabi-celebration/
CATEGORIES:Filipino Apostolate
ATTACH;FMTTYPE=image/jpeg:https://stjosephbogota.org/wp-content/uploads/2021/11/Parol_Philippines.jpg
END:VEVENT
END:VCALENDAR