BEGIN:VCALENDAR
VERSION:2.0
PRODID:-//St. Joseph Church - ECPv5.11.0//NONSGML v1.0//EN
CALSCALE:GREGORIAN
METHOD:PUBLISH
X-WR-CALNAME:St. Joseph Church
X-ORIGINAL-URL:https://stjosephbogota.org
X-WR-CALDESC:Events for St. Joseph Church
BEGIN:VTIMEZONE
TZID:America/New_York
BEGIN:DAYLIGHT
TZOFFSETFROM:-0500
TZOFFSETTO:-0400
TZNAME:EDT
DTSTART:20250309T070000
END:DAYLIGHT
BEGIN:STANDARD
TZOFFSETFROM:-0400
TZOFFSETTO:-0500
TZNAME:EST
DTSTART:20251102T060000
END:STANDARD
END:VTIMEZONE
BEGIN:VEVENT
DTSTART;TZID=America/New_York:20250510T130000
DTEND;TZID=America/New_York:20250510T140000
DTSTAMP:20260420T055635
CREATED:20240926T220030Z
LAST-MODIFIED:20260106T191820Z
UID:63508-1746882000-1746885600@stjosephbogota.org
SUMMARY:RCR: Mass Explained Series: Fr. Scott
DESCRIPTION:Some of us have been attending Mass our entire lives\, yet have not received instruction on the rich history and meaning of the objects\, prayers\, and ritual actions which constitute the Holy Sacrifice of the Mass.\nIf the Mass is called the “source and summit of the Christian life\,” shouldn’t we have a greater understanding of it?\nFather Scott will be offering a series called “Mass Explained”\, providing instruction on the actions and prayers of the Mass\, leading us to a fuller participation in the sacred mysteries.\nThe series takes place on February 8\, March 8\, and May 10 at 1pm in the School Cafeteria.\nPlease join us for this wonderful educational opportunity.
URL:https://stjosephbogota.org/event/cafeteria-mass-explained-series-fr-scott-4/
CATEGORIES:Adult Faith Formation
ATTACH;FMTTYPE=image/jpeg:https://stjosephbogota.org/wp-content/uploads/2024/09/Mass-Explained.jpg
END:VEVENT
END:VCALENDAR