BEGIN:VCALENDAR
VERSION:2.0
PRODID:-//St. Joseph Church - ECPv5.11.0//NONSGML v1.0//EN
CALSCALE:GREGORIAN
METHOD:PUBLISH
X-WR-CALNAME:St. Joseph Church
X-ORIGINAL-URL:https://stjosephbogota.org
X-WR-CALDESC:Events for St. Joseph Church
BEGIN:VTIMEZONE
TZID:America/New_York
BEGIN:DAYLIGHT
TZOFFSETFROM:-0500
TZOFFSETTO:-0400
TZNAME:EDT
DTSTART:20250309T070000
END:DAYLIGHT
BEGIN:STANDARD
TZOFFSETFROM:-0400
TZOFFSETTO:-0500
TZNAME:EST
DTSTART:20251102T060000
END:STANDARD
END:VTIMEZONE
BEGIN:VEVENT
DTSTART;TZID=America/New_York:20251102T100000
DTEND;TZID=America/New_York:20251102T110000
DTSTAMP:20260422T075629
CREATED:20250806T000025Z
LAST-MODIFIED:20251203T162354Z
UID:75250-1762077600-1762081200@stjosephbogota.org
SUMMARY:CH: All Souls Day Mass (FSA+DKR)\, Baptism (Nicholas)
DESCRIPTION:November 2nd is All Souls Day\, when we commemorate all the Faithful Departed. \nThis feast falls on a Sunday this year\, so we will be celebrating it at all Sunday Masses  – starting with the 5pm Mass on Nov. 1. At this Mass we will read the names of all whose funerals were celebrated at St. Joseph during the past year. Following the 5pm evening Mass\, the luminaries prepared by the Holy Name Society will be lit outside in the grotto.
URL:https://stjosephbogota.org/event/ch-all-souls-day-mass-5/
CATEGORIES:Fr. Scott
ATTACH;FMTTYPE=image/jpeg:https://stjosephbogota.org/wp-content/uploads/2021/10/Mass-Fr.Scott_.jpg
END:VEVENT
END:VCALENDAR