BEGIN:VCALENDAR
VERSION:2.0
PRODID:-//St. Joseph Church - ECPv5.11.0//NONSGML v1.0//EN
CALSCALE:GREGORIAN
METHOD:PUBLISH
X-WR-CALNAME:St. Joseph Church
X-ORIGINAL-URL:https://stjosephbogota.org
X-WR-CALDESC:Events for St. Joseph Church
BEGIN:VTIMEZONE
TZID:America/New_York
BEGIN:DAYLIGHT
TZOFFSETFROM:-0500
TZOFFSETTO:-0400
TZNAME:EDT
DTSTART:20250309T070000
END:DAYLIGHT
BEGIN:STANDARD
TZOFFSETFROM:-0400
TZOFFSETTO:-0500
TZNAME:EST
DTSTART:20251102T060000
END:STANDARD
END:VTIMEZONE
BEGIN:VEVENT
DTSTART;TZID=America/New_York:20251213T130000
DTEND;TZID=America/New_York:20251213T140000
DTSTAMP:20260421T092054
CREATED:20250921T063001Z
LAST-MODIFIED:20251212T222835Z
UID:76351-1765630800-1765634400@stjosephbogota.org
SUMMARY:CH: Celebration of First Reconciliation (FSA+FEB)
DESCRIPTION:
URL:https://stjosephbogota.org/event/ch-celebration-of-first-reconciliation-4/
ATTACH;FMTTYPE=image/jpeg:https://stjosephbogota.org/wp-content/uploads/2022/01/Prodigal-Son.jpg
END:VEVENT
END:VCALENDAR