BEGIN:VCALENDAR
VERSION:2.0
PRODID:-//St. Joseph Church - ECPv5.11.0//NONSGML v1.0//EN
CALSCALE:GREGORIAN
METHOD:PUBLISH
X-WR-CALNAME:St. Joseph Church
X-ORIGINAL-URL:https://stjosephbogota.org
X-WR-CALDESC:Events for St. Joseph Church
BEGIN:VTIMEZONE
TZID:America/New_York
BEGIN:DAYLIGHT
TZOFFSETFROM:-0500
TZOFFSETTO:-0400
TZNAME:EDT
DTSTART:20260308T070000
END:DAYLIGHT
BEGIN:STANDARD
TZOFFSETFROM:-0400
TZOFFSETTO:-0500
TZNAME:EST
DTSTART:20261101T060000
END:STANDARD
END:VTIMEZONE
BEGIN:VEVENT
DTSTART;TZID=America/New_York:20260607T113000
DTEND;TZID=America/New_York:20260607T115000
DTSTAMP:20260420T194848
CREATED:20260330T042308Z
LAST-MODIFIED:20260419T203506Z
UID:81441-1780831800-1780833000@stjosephbogota.org
SUMMARY:CH: Confessions (FS)
DESCRIPTION:
URL:https://stjosephbogota.org/event/ch-confessions-fs-36/
END:VEVENT
END:VCALENDAR