BEGIN:VCALENDAR
VERSION:2.0
PRODID:-//St. Joseph Church - ECPv5.11.0//NONSGML v1.0//EN
CALSCALE:GREGORIAN
METHOD:PUBLISH
X-WR-CALNAME:St. Joseph Church
X-ORIGINAL-URL:https://stjosephbogota.org
X-WR-CALDESC:Events for St. Joseph Church
BEGIN:VTIMEZONE
TZID:America/New_York
BEGIN:DAYLIGHT
TZOFFSETFROM:-0500
TZOFFSETTO:-0400
TZNAME:EDT
DTSTART:20260308T070000
END:DAYLIGHT
BEGIN:STANDARD
TZOFFSETFROM:-0400
TZOFFSETTO:-0500
TZNAME:EST
DTSTART:20261101T060000
END:STANDARD
END:VTIMEZONE
BEGIN:VEVENT
DTSTART;TZID=America/New_York:20260201T170000
DTEND;TZID=America/New_York:20260201T180000
DTSTAMP:20260422T092529
CREATED:20251102T162930Z
LAST-MODIFIED:20260201T164349Z
UID:77508-1769965200-1769968800@stjosephbogota.org
SUMMARY:CH: Confirmation Session Mass (FSA) (DATE CHANGED)
DESCRIPTION:RESCHEDULED from 1/25/2026
URL:https://stjosephbogota.org/event/ch-confirmation-session-mass-14/
CATEGORIES:Fr. Scott
ATTACH;FMTTYPE=image/jpeg:https://stjosephbogota.org/wp-content/uploads/2021/10/Mass-Fr.Scott_.jpg
END:VEVENT
END:VCALENDAR