BEGIN:VCALENDAR
VERSION:2.0
PRODID:-//St. Joseph Church - ECPv5.11.0//NONSGML v1.0//EN
CALSCALE:GREGORIAN
METHOD:PUBLISH
X-WR-CALNAME:St. Joseph Church
X-ORIGINAL-URL:https://stjosephbogota.org
X-WR-CALDESC:Events for St. Joseph Church
BEGIN:VTIMEZONE
TZID:America/New_York
BEGIN:DAYLIGHT
TZOFFSETFROM:-0500
TZOFFSETTO:-0400
TZNAME:EDT
DTSTART:20250309T070000
END:DAYLIGHT
BEGIN:STANDARD
TZOFFSETFROM:-0400
TZOFFSETTO:-0500
TZNAME:EST
DTSTART:20251102T060000
END:STANDARD
END:VTIMEZONE
BEGIN:VEVENT
DTSTART;TZID=America/New_York:20250504T100000
DTEND;TZID=America/New_York:20250504T110000
DTSTAMP:20260420T092039
CREATED:20250225T200730Z
LAST-MODIFIED:20250504T131330Z
UID:68903-1746352800-1746356400@stjosephbogota.org
SUMMARY:CH: Crowning of Mary
DESCRIPTION:In honor of the Blessed Mother\, the statue of Mary in the Sanctuary is crowned with a wreath of flowers.
URL:https://stjosephbogota.org/event/ch-crowning-of-mary-2/
END:VEVENT
END:VCALENDAR