BEGIN:VCALENDAR
VERSION:2.0
PRODID:-//St. Joseph Church - ECPv5.11.0//NONSGML v1.0//EN
CALSCALE:GREGORIAN
METHOD:PUBLISH
X-WR-CALNAME:St. Joseph Church
X-ORIGINAL-URL:https://stjosephbogota.org
X-WR-CALDESC:Events for St. Joseph Church
BEGIN:VTIMEZONE
TZID:America/New_York
BEGIN:DAYLIGHT
TZOFFSETFROM:-0500
TZOFFSETTO:-0400
TZNAME:EDT
DTSTART:20250309T070000
END:DAYLIGHT
BEGIN:STANDARD
TZOFFSETFROM:-0400
TZOFFSETTO:-0500
TZNAME:EST
DTSTART:20251102T060000
END:STANDARD
END:VTIMEZONE
BEGIN:VEVENT
DTSTART;TZID=America/New_York:20250801T120000
DTEND;TZID=America/New_York:20250801T130000
DTSTAMP:20260420T091649
CREATED:20250617T185606Z
LAST-MODIFIED:20250827T221826Z
UID:72064-1754049600-1754053200@stjosephbogota.org
SUMMARY:CH: First Friday Mass
DESCRIPTION:
URL:https://stjosephbogota.org/event/ch-first-friday-mass/
CATEGORIES:First Friday
ATTACH;FMTTYPE=image/jpeg:https://stjosephbogota.org/wp-content/uploads/2023/08/SacredHeartBatoni-e1693413406644.jpg
END:VEVENT
END:VCALENDAR