BEGIN:VCALENDAR
VERSION:2.0
PRODID:-//St. Joseph Church - ECPv5.11.0//NONSGML v1.0//EN
CALSCALE:GREGORIAN
METHOD:PUBLISH
X-WR-CALNAME:St. Joseph Church
X-ORIGINAL-URL:https://stjosephbogota.org
X-WR-CALDESC:Events for St. Joseph Church
BEGIN:VTIMEZONE
TZID:America/New_York
BEGIN:DAYLIGHT
TZOFFSETFROM:-0500
TZOFFSETTO:-0400
TZNAME:EDT
DTSTART:20250309T070000
END:DAYLIGHT
BEGIN:STANDARD
TZOFFSETFROM:-0400
TZOFFSETTO:-0500
TZNAME:EST
DTSTART:20251102T060000
END:STANDARD
END:VTIMEZONE
BEGIN:VEVENT
DTSTART;TZID=America/New_York:20251212T180000
DTEND;TZID=America/New_York:20251212T190000
DTSTAMP:20260422T073405
CREATED:20251205T212532Z
LAST-MODIFIED:20251212T222835Z
UID:78348-1765562400-1765566000@stjosephbogota.org
SUMMARY:CH: Guadalupe Rosary and Procession
DESCRIPTION:It has been a beautiful tradition in our parish for many years for Spanish-speaking parishioners to celebrate the Feast of Our Lady of Guadalupe with a special Mass in Spanish.\nThis year\, we will celebrate the Feast with a special Bilingual Mass on Friday\, December 12th at 7pm in the Church. We’ll pray the Rosary in Spanish beginning at 6:00pm.\nSince the Blessed Virgin Mary is the Patroness of the Americas\, we strongly encourage all members of the St. Joseph community to join with our Spanish community in this joyful celebration of the Feast of Our Lady of Guadalupe.\nMay Mary\, Our Lady of Guadalupe\, Patroness of the Americas hold all of us in her heart everyday.
URL:https://stjosephbogota.org/event/ch-guadalupe-rosary-and-procession/
ATTACH;FMTTYPE=image/jpeg:https://stjosephbogota.org/wp-content/uploads/2023/12/2023-guadalupe-background-scaled.jpg
END:VEVENT
END:VCALENDAR