BEGIN:VCALENDAR
VERSION:2.0
PRODID:-//St. Joseph Church - ECPv5.11.0//NONSGML v1.0//EN
CALSCALE:GREGORIAN
METHOD:PUBLISH
X-WR-CALNAME:St. Joseph Church
X-ORIGINAL-URL:https://stjosephbogota.org
X-WR-CALDESC:Events for St. Joseph Church
BEGIN:VTIMEZONE
TZID:America/New_York
BEGIN:DAYLIGHT
TZOFFSETFROM:-0500
TZOFFSETTO:-0400
TZNAME:EDT
DTSTART:20260308T070000
END:DAYLIGHT
BEGIN:STANDARD
TZOFFSETFROM:-0400
TZOFFSETTO:-0500
TZNAME:EST
DTSTART:20261101T060000
END:STANDARD
END:VTIMEZONE
BEGIN:VEVENT
DTSTART;TZID=America/New_York:20260304T083000
DTEND;TZID=America/New_York:20260304T093000
DTSTAMP:20260420T231807
CREATED:20251210T214451Z
LAST-MODIFIED:20260303T214333Z
UID:78512-1772613000-1772616600@stjosephbogota.org
SUMMARY:CH: Holy Hour and Rosary
DESCRIPTION:
URL:https://stjosephbogota.org/event/ch-holy-hour-and-rosary-360/
CATEGORIES:Adoration
ATTACH;FMTTYPE=image/jpeg:https://stjosephbogota.org/wp-content/uploads/2020/09/Eucharistic-Adoration.jpg
END:VEVENT
END:VCALENDAR