BEGIN:VCALENDAR
VERSION:2.0
PRODID:-//St. Joseph Church - ECPv5.11.0//NONSGML v1.0//EN
CALSCALE:GREGORIAN
METHOD:PUBLISH
X-WR-CALNAME:St. Joseph Church
X-ORIGINAL-URL:https://stjosephbogota.org
X-WR-CALDESC:Events for St. Joseph Church
BEGIN:VTIMEZONE
TZID:America/New_York
BEGIN:DAYLIGHT
TZOFFSETFROM:-0500
TZOFFSETTO:-0400
TZNAME:EDT
DTSTART:20260308T070000
END:DAYLIGHT
BEGIN:STANDARD
TZOFFSETFROM:-0400
TZOFFSETTO:-0500
TZNAME:EST
DTSTART:20261101T060000
END:STANDARD
END:VTIMEZONE
BEGIN:VEVENT
DTSTART;TZID=America/New_York:20260218T120000
DTEND;TZID=America/New_York:20260218T124500
DTSTAMP:20260420T074625
CREATED:20251126T212408Z
LAST-MODIFIED:20260218T152835Z
UID:78069-1771416000-1771418700@stjosephbogota.org
SUMMARY:CH: Mass on Ash Wednesday (FEB)
DESCRIPTION:
URL:https://stjosephbogota.org/event/ch-mass-on-ash-wednesday-2/
ATTACH;FMTTYPE=image/png:https://stjosephbogota.org/wp-content/uploads/2022/01/ash-wednesday-text2.png
END:VEVENT
END:VCALENDAR