BEGIN:VCALENDAR
VERSION:2.0
PRODID:-//St. Joseph Church - ECPv5.11.0//NONSGML v1.0//EN
CALSCALE:GREGORIAN
METHOD:PUBLISH
X-WR-CALNAME:St. Joseph Church
X-ORIGINAL-URL:https://stjosephbogota.org
X-WR-CALDESC:Events for St. Joseph Church
BEGIN:VTIMEZONE
TZID:America/New_York
BEGIN:DAYLIGHT
TZOFFSETFROM:-0500
TZOFFSETTO:-0400
TZNAME:EDT
DTSTART:20260308T070000
END:DAYLIGHT
BEGIN:STANDARD
TZOFFSETFROM:-0400
TZOFFSETTO:-0500
TZNAME:EST
DTSTART:20261101T060000
END:STANDARD
END:VTIMEZONE
BEGIN:VEVENT
DTSTART;TZID=America/New_York:20260214T074500
DTEND;TZID=America/New_York:20260214T080000
DTSTAMP:20260421T060754
CREATED:20251120T212939Z
LAST-MODIFIED:20260213T164336Z
UID:77933-1771055100-1771056000@stjosephbogota.org
SUMMARY:CH: Morning Prayer
DESCRIPTION:
URL:https://stjosephbogota.org/event/ch-morning-prayer-197/
CATEGORIES:Morning Prayer
ATTACH;FMTTYPE=image/jpeg:https://stjosephbogota.org/wp-content/uploads/2022/03/LiturgyoftheHours.jpg
END:VEVENT
END:VCALENDAR