BEGIN:VCALENDAR
VERSION:2.0
PRODID:-//St. Joseph Church - ECPv5.11.0//NONSGML v1.0//EN
CALSCALE:GREGORIAN
METHOD:PUBLISH
X-WR-CALNAME:St. Joseph Church
X-ORIGINAL-URL:https://stjosephbogota.org
X-WR-CALDESC:Events for St. Joseph Church
BEGIN:VTIMEZONE
TZID:America/New_York
BEGIN:DAYLIGHT
TZOFFSETFROM:-0500
TZOFFSETTO:-0400
TZNAME:EDT
DTSTART:20260308T070000
END:DAYLIGHT
BEGIN:STANDARD
TZOFFSETFROM:-0400
TZOFFSETTO:-0500
TZNAME:EST
DTSTART:20261101T060000
END:STANDARD
END:VTIMEZONE
BEGIN:VEVENT
DTSTART;TZID=America/New_York:20260403T080000
DTEND;TZID=America/New_York:20260403T083000
DTSTAMP:20260421T074700
CREATED:20260107T155959Z
LAST-MODIFIED:20260402T140231Z
UID:79285-1775203200-1775205000@stjosephbogota.org
SUMMARY:CH: Morning Prayer (DKR) replaces Daily Mass
DESCRIPTION:Here is a link to the morning prayer booklet: \n[vc_btn title=”Good Friday Morning Prayer Booklet” color=”success” link=”url:https%3A%2F%2Fwww.ebreviary.com%2Febreviary%2Fusa2%2Febusatriduumprayer3.nsf%2Fd76f03c63d3ce749852573f2000d363f%2Fb3757477ecedd13185258cdc00483092%2F%24FILE%2FTriduum_Morning_Office_1_d.pdf|title:Good%20Friday%20Morning%20Prayer%20Booklet|target:_blank”]
URL:https://stjosephbogota.org/event/ch-morning-prayer-replaces-daily-mass-5/
CATEGORIES:Morning Prayer
ATTACH;FMTTYPE=image/jpeg:https://stjosephbogota.org/wp-content/uploads/2022/03/LiturgyoftheHours.jpg
END:VEVENT
END:VCALENDAR