BEGIN:VCALENDAR
VERSION:2.0
PRODID:-//St. Joseph Church - ECPv5.11.0//NONSGML v1.0//EN
CALSCALE:GREGORIAN
METHOD:PUBLISH
X-WR-CALNAME:St. Joseph Church
X-ORIGINAL-URL:https://stjosephbogota.org
X-WR-CALDESC:Events for St. Joseph Church
BEGIN:VTIMEZONE
TZID:America/New_York
BEGIN:DAYLIGHT
TZOFFSETFROM:-0500
TZOFFSETTO:-0400
TZNAME:EDT
DTSTART:20260308T070000
END:DAYLIGHT
BEGIN:STANDARD
TZOFFSETFROM:-0400
TZOFFSETTO:-0500
TZNAME:EST
DTSTART:20261101T060000
END:STANDARD
END:VTIMEZONE
BEGIN:VEVENT
DTSTART;TZID=America/New_York:20260318T130000
DTEND;TZID=America/New_York:20260318T150000
DTSTAMP:20260422T182340
CREATED:20251223T200850Z
LAST-MODIFIED:20260318T011352Z
UID:78866-1773838800-1773846000@stjosephbogota.org
SUMMARY:CH: Padre Pio Prayer Group and Mass (FEB)
DESCRIPTION:
URL:https://stjosephbogota.org/event/ch-padre-pio-prayer-group-and-mass-8/
CATEGORIES:Padre Pio
ATTACH;FMTTYPE=image/jpeg:https://stjosephbogota.org/wp-content/uploads/2022/01/Padre_Pio.jpg
END:VEVENT
END:VCALENDAR