BEGIN:VCALENDAR
VERSION:2.0
PRODID:-//St. Joseph Church - ECPv5.11.0//NONSGML v1.0//EN
CALSCALE:GREGORIAN
METHOD:PUBLISH
X-WR-CALNAME:St. Joseph Church
X-ORIGINAL-URL:https://stjosephbogota.org
X-WR-CALDESC:Events for St. Joseph Church
BEGIN:VTIMEZONE
TZID:America/New_York
BEGIN:DAYLIGHT
TZOFFSETFROM:-0500
TZOFFSETTO:-0400
TZNAME:EDT
DTSTART:20260308T070000
END:DAYLIGHT
BEGIN:STANDARD
TZOFFSETFROM:-0400
TZOFFSETTO:-0500
TZNAME:EST
DTSTART:20261101T060000
END:STANDARD
END:VTIMEZONE
BEGIN:VEVENT
DTSTART;TZID=America/New_York:20260606T180000
DTEND;TZID=America/New_York:20260606T190000
DTSTAMP:20260423T043953
CREATED:20260330T042257Z
LAST-MODIFIED:20260422T212106Z
UID:81432-1780768800-1780772400@stjosephbogota.org
SUMMARY:Corpus Christi Procession
DESCRIPTION:
URL:https://stjosephbogota.org/event/corpus-christi-procession-2/
ATTACH;FMTTYPE=image/jpeg:https://stjosephbogota.org/wp-content/uploads/2024/06/2024-06-01-Corpus-Christ-WU-09.jpg
END:VEVENT
END:VCALENDAR