BEGIN:VCALENDAR
VERSION:2.0
PRODID:-//St. Joseph Church - ECPv5.11.0//NONSGML v1.0//EN
CALSCALE:GREGORIAN
METHOD:PUBLISH
X-WR-CALNAME:St. Joseph Church
X-ORIGINAL-URL:https://stjosephbogota.org
X-WR-CALDESC:Events for St. Joseph Church
BEGIN:VTIMEZONE
TZID:America/New_York
BEGIN:DAYLIGHT
TZOFFSETFROM:-0500
TZOFFSETTO:-0400
TZNAME:EDT
DTSTART:20260308T070000
END:DAYLIGHT
BEGIN:STANDARD
TZOFFSETFROM:-0400
TZOFFSETTO:-0500
TZNAME:EST
DTSTART:20261101T060000
END:STANDARD
END:VTIMEZONE
BEGIN:VEVENT
DTSTART;VALUE=DATE:20260203
DTEND;VALUE=DATE:20260204
DTSTAMP:20260422T203301
CREATED:20251110T203049Z
LAST-MODIFIED:20260203T165910Z
UID:77689-1770076800-1770163199@stjosephbogota.org
SUMMARY:Feast of St. Blaise
DESCRIPTION:Today the Church celebrates the feast day of St. Blaise\, Bishop and matyr. The traditional blessing of the throats associated with the saint will be imparted during Mass as well as at all Sunday Masses (1/31-2/1)
URL:https://stjosephbogota.org/event/feast-of-st-blaise-2/
ATTACH;FMTTYPE=image/jpeg:https://stjosephbogota.org/wp-content/uploads/2017/01/Fr_Chapelle_Notre-Dame-de-Lhor_Saint_Blaise_stained_glass_-_Saint_Blaise_detail1.jpg
END:VEVENT
END:VCALENDAR