BEGIN:VCALENDAR
VERSION:2.0
PRODID:-//St. Joseph Church - ECPv5.11.0//NONSGML v1.0//EN
CALSCALE:GREGORIAN
METHOD:PUBLISH
X-WR-CALNAME:St. Joseph Church
X-ORIGINAL-URL:https://stjosephbogota.org
X-WR-CALDESC:Events for St. Joseph Church
BEGIN:VTIMEZONE
TZID:America/New_York
BEGIN:DAYLIGHT
TZOFFSETFROM:-0500
TZOFFSETTO:-0400
TZNAME:EDT
DTSTART:20260308T070000
END:DAYLIGHT
BEGIN:STANDARD
TZOFFSETFROM:-0400
TZOFFSETTO:-0500
TZNAME:EST
DTSTART:20261101T060000
END:STANDARD
END:VTIMEZONE
BEGIN:VEVENT
DTSTART;TZID=America/New_York:20260222T163000
DTEND;TZID=America/New_York:20260222T180000
DTSTAMP:20260423T122304
CREATED:20250627T195830Z
LAST-MODIFIED:20260222T010638Z
UID:73050-1771777800-1771783200@stjosephbogota.org
SUMMARY:POSTPONED - OE: Rite of Election (Catechumens)
DESCRIPTION:
URL:https://stjosephbogota.org/event/oe-rite-of-election-catechumens/
LOCATION:Sacred Heart Basilica\, Newark\, NJ\, United States
END:VEVENT
END:VCALENDAR