BEGIN:VCALENDAR
VERSION:2.0
PRODID:-//St. Joseph Church - ECPv5.11.0//NONSGML v1.0//EN
CALSCALE:GREGORIAN
METHOD:PUBLISH
X-WR-CALNAME:St. Joseph Church
X-ORIGINAL-URL:https://stjosephbogota.org
X-WR-CALDESC:Events for St. Joseph Church
BEGIN:VTIMEZONE
TZID:America/New_York
BEGIN:DAYLIGHT
TZOFFSETFROM:-0500
TZOFFSETTO:-0400
TZNAME:EDT
DTSTART:20260308T070000
END:DAYLIGHT
BEGIN:STANDARD
TZOFFSETFROM:-0400
TZOFFSETTO:-0500
TZNAME:EST
DTSTART:20261101T060000
END:STANDARD
END:VTIMEZONE
BEGIN:VEVENT
DTSTART;VALUE=DATE:20260216
DTEND;VALUE=DATE:20260217
DTSTAMP:20260420T054536
CREATED:20251123T204424Z
LAST-MODIFIED:20260216T165836Z
UID:78000-1771200000-1771286399@stjosephbogota.org
SUMMARY:Parish Office Closed
DESCRIPTION:The parish office will be closed in observence of President’s Day
URL:https://stjosephbogota.org/event/parish-office-closed-11/
CATEGORIES:Parish Office Closed
ATTACH;FMTTYPE=image/png:https://stjosephbogota.org/wp-content/uploads/2021/01/Rectory-Office-Closed.png
END:VEVENT
END:VCALENDAR