BEGIN:VCALENDAR
VERSION:2.0
PRODID:-//St. Joseph Church - ECPv5.11.0//NONSGML v1.0//EN
CALSCALE:GREGORIAN
METHOD:PUBLISH
X-WR-CALNAME:St. Joseph Church
X-ORIGINAL-URL:https://stjosephbogota.org
X-WR-CALDESC:Events for St. Joseph Church
BEGIN:VTIMEZONE
TZID:America/New_York
BEGIN:DAYLIGHT
TZOFFSETFROM:-0500
TZOFFSETTO:-0400
TZNAME:EDT
DTSTART:20260308T070000
END:DAYLIGHT
BEGIN:STANDARD
TZOFFSETFROM:-0400
TZOFFSETTO:-0500
TZNAME:EST
DTSTART:20261101T060000
END:STANDARD
END:VTIMEZONE
BEGIN:VEVENT
DTSTART;VALUE=DATE:20260606
DTEND;VALUE=DATE:20260608
DTSTAMP:20260421T144802
CREATED:20260330T042245Z
LAST-MODIFIED:20260419T203506Z
UID:81428-1780704000-1780876799@stjosephbogota.org
SUMMARY:The Most Holy Body and Blood of Christ
DESCRIPTION:
URL:https://stjosephbogota.org/event/the-most-holy-body-and-blood-of-christ/
ATTACH;FMTTYPE=image/jpeg:https://stjosephbogota.org/wp-content/uploads/2026/03/Corpus-Christi-scaled.jpg
END:VEVENT
END:VCALENDAR