BEGIN:VCALENDAR
VERSION:2.0
PRODID:-//St. Joseph Church - ECPv5.11.0//NONSGML v1.0//EN
CALSCALE:GREGORIAN
METHOD:PUBLISH
X-WR-CALNAME:St. Joseph Church
X-ORIGINAL-URL:https://stjosephbogota.org
X-WR-CALDESC:Events for St. Joseph Church
BEGIN:VTIMEZONE
TZID:America/New_York
BEGIN:DAYLIGHT
TZOFFSETFROM:-0500
TZOFFSETTO:-0400
TZNAME:EDT
DTSTART:20260308T070000
END:DAYLIGHT
BEGIN:STANDARD
TZOFFSETFROM:-0400
TZOFFSETTO:-0500
TZNAME:EST
DTSTART:20261101T060000
END:STANDARD
END:VTIMEZONE
BEGIN:VEVENT
DTSTART;TZID=America/New_York:20260531T080000
DTEND;TZID=America/New_York:20260531T090000
DTSTAMP:20260422T044157
CREATED:20260330T042208Z
LAST-MODIFIED:20260419T203412Z
UID:81397-1780214400-1780218000@stjosephbogota.org
SUMMARY:CH: Sunday Mass
DESCRIPTION:
URL:https://stjosephbogota.org/event/ch-sunday-mass-124/
END:VEVENT
BEGIN:VEVENT
DTSTART;TZID=America/New_York:20260531T100000
DTEND;TZID=America/New_York:20260531T110000
DTSTAMP:20260422T044157
CREATED:20260330T042208Z
LAST-MODIFIED:20260419T203412Z
UID:81398-1780221600-1780225200@stjosephbogota.org
SUMMARY:CH: Sunday Mass
DESCRIPTION:
URL:https://stjosephbogota.org/event/ch-sunday-mass-125/
END:VEVENT
BEGIN:VEVENT
DTSTART;TZID=America/New_York:20260531T120000
DTEND;TZID=America/New_York:20260531T130000
DTSTAMP:20260422T044157
CREATED:20260330T042219Z
LAST-MODIFIED:20260419T203412Z
UID:81399-1780228800-1780232400@stjosephbogota.org
SUMMARY:CH: Misa del domingo (FEB)
DESCRIPTION:
URL:https://stjosephbogota.org/event/ch-misa-del-domingo-feb-49/
END:VEVENT
BEGIN:VEVENT
DTSTART;TZID=America/New_York:20260531T140000
DTEND;TZID=America/New_York:20260531T150000
DTSTAMP:20260422T044157
CREATED:20260330T042219Z
LAST-MODIFIED:20260419T203412Z
UID:81400-1780236000-1780239600@stjosephbogota.org
SUMMARY:CH: Wedding- Christine Mausser/ Etgar Kaspi: Fr. Scott
DESCRIPTION:
URL:https://stjosephbogota.org/event/ch-wedding-christine-mausser-etgar-kaspi-fr-scott/
END:VEVENT
END:VCALENDAR