BEGIN:VCALENDAR
VERSION:2.0
PRODID:-//St. Joseph Church - ECPv5.11.0//NONSGML v1.0//EN
CALSCALE:GREGORIAN
METHOD:PUBLISH
X-WR-CALNAME:St. Joseph Church
X-ORIGINAL-URL:https://stjosephbogota.org
X-WR-CALDESC:Events for St. Joseph Church
BEGIN:VTIMEZONE
TZID:America/New_York
BEGIN:DAYLIGHT
TZOFFSETFROM:-0500
TZOFFSETTO:-0400
TZNAME:EDT
DTSTART:20260308T070000
END:DAYLIGHT
BEGIN:STANDARD
TZOFFSETFROM:-0400
TZOFFSETTO:-0500
TZNAME:EST
DTSTART:20261101T060000
END:STANDARD
END:VTIMEZONE
BEGIN:VEVENT
DTSTART;TZID=America/New_York:20260602T074500
DTEND;TZID=America/New_York:20260602T080000
DTSTAMP:20260420T103817
CREATED:20260330T042220Z
LAST-MODIFIED:20260419T203425Z
UID:81407-1780386300-1780387200@stjosephbogota.org
SUMMARY:CH: Morning Prayer
DESCRIPTION:
URL:https://stjosephbogota.org/event/ch-morning-prayer-293/
END:VEVENT
BEGIN:VEVENT
DTSTART;TZID=America/New_York:20260602T080000
DTEND;TZID=America/New_York:20260602T083000
DTSTAMP:20260420T103817
CREATED:20260330T042220Z
LAST-MODIFIED:20260419T203425Z
UID:81406-1780387200-1780389000@stjosephbogota.org
SUMMARY:CH: Daily Mass
DESCRIPTION:
URL:https://stjosephbogota.org/event/ch-daily-mass-404/
END:VEVENT
BEGIN:VEVENT
DTSTART;TZID=America/New_York:20260602T083000
DTEND;TZID=America/New_York:20260602T093000
DTSTAMP:20260420T103817
CREATED:20260330T042220Z
LAST-MODIFIED:20260419T203425Z
UID:81408-1780389000-1780392600@stjosephbogota.org
SUMMARY:CH: Holy Hour and Rosary
DESCRIPTION:
URL:https://stjosephbogota.org/event/ch-holy-hour-and-rosary-437/
END:VEVENT
BEGIN:VEVENT
DTSTART;TZID=America/New_York:20260602T083000
DTEND;TZID=America/New_York:20260602T160000
DTSTAMP:20260420T103817
CREATED:20260330T042232Z
LAST-MODIFIED:20260419T203425Z
UID:81409-1780389000-1780416000@stjosephbogota.org
SUMMARY:CH: Open for Private Prayer
DESCRIPTION:
URL:https://stjosephbogota.org/event/ch-open-for-private-prayer-728/
END:VEVENT
BEGIN:VEVENT
DTSTART;TZID=America/New_York:20260602T201500
DTEND;TZID=America/New_York:20260602T203000
DTSTAMP:20260420T103817
CREATED:20260330T042232Z
LAST-MODIFIED:20260419T203425Z
UID:81410-1780431300-1780432200@stjosephbogota.org
SUMMARY:Busy
DESCRIPTION:
URL:https://stjosephbogota.org/event/busy-1131/
END:VEVENT
BEGIN:VEVENT
DTSTART;TZID=America/New_York:20260602T203000
DTEND;TZID=America/New_York:20260602T223000
DTSTAMP:20260420T103817
CREATED:20260330T042232Z
LAST-MODIFIED:20260419T203426Z
UID:81411-1780432200-1780439400@stjosephbogota.org
SUMMARY:CH: Neocatechumenal Way Meeting
DESCRIPTION:
URL:https://stjosephbogota.org/event/ch-neocatechumenal-way-meeting-64/
END:VEVENT
END:VCALENDAR