BEGIN:VCALENDAR
VERSION:2.0
PRODID:-//St. Joseph Church - ECPv5.11.0//NONSGML v1.0//EN
CALSCALE:GREGORIAN
METHOD:PUBLISH
X-WR-CALNAME:St. Joseph Church
X-ORIGINAL-URL:https://stjosephbogota.org
X-WR-CALDESC:Events for St. Joseph Church
BEGIN:VTIMEZONE
TZID:America/New_York
BEGIN:DAYLIGHT
TZOFFSETFROM:-0500
TZOFFSETTO:-0400
TZNAME:EDT
DTSTART:20260308T070000
END:DAYLIGHT
BEGIN:STANDARD
TZOFFSETFROM:-0400
TZOFFSETTO:-0500
TZNAME:EST
DTSTART:20261101T060000
END:STANDARD
END:VTIMEZONE
BEGIN:VEVENT
DTSTART;VALUE=DATE:20260606
DTEND;VALUE=DATE:20260608
DTSTAMP:20260422T121055
CREATED:20260330T042245Z
LAST-MODIFIED:20260419T203506Z
UID:81428-1780704000-1780876799@stjosephbogota.org
SUMMARY:The Most Holy Body and Blood of Christ
DESCRIPTION:
URL:https://stjosephbogota.org/event/the-most-holy-body-and-blood-of-christ/
ATTACH;FMTTYPE=image/jpeg:https://stjosephbogota.org/wp-content/uploads/2026/03/Corpus-Christi-scaled.jpg
END:VEVENT
BEGIN:VEVENT
DTSTART;TZID=America/New_York:20260606T074500
DTEND;TZID=America/New_York:20260606T080000
DTSTAMP:20260422T121055
CREATED:20260330T042245Z
LAST-MODIFIED:20260419T203452Z
UID:81427-1780731900-1780732800@stjosephbogota.org
SUMMARY:CH: Morning Prayer
DESCRIPTION:
URL:https://stjosephbogota.org/event/ch-morning-prayer-297/
END:VEVENT
BEGIN:VEVENT
DTSTART;TZID=America/New_York:20260606T080000
DTEND;TZID=America/New_York:20260606T083000
DTSTAMP:20260422T121055
CREATED:20260330T042257Z
LAST-MODIFIED:20260419T203452Z
UID:81430-1780732800-1780734600@stjosephbogota.org
SUMMARY:CH: Daily Mass
DESCRIPTION:
URL:https://stjosephbogota.org/event/ch-daily-mass-408/
END:VEVENT
BEGIN:VEVENT
DTSTART;TZID=America/New_York:20260606T083000
DTEND;TZID=America/New_York:20260606T093000
DTSTAMP:20260422T121055
CREATED:20260330T042256Z
LAST-MODIFIED:20260419T203452Z
UID:81429-1780734600-1780738200@stjosephbogota.org
SUMMARY:CH: Holy Hour and Rosary
DESCRIPTION:
URL:https://stjosephbogota.org/event/ch-holy-hour-and-rosary-441/
END:VEVENT
BEGIN:VEVENT
DTSTART;TZID=America/New_York:20260606T083000
DTEND;TZID=America/New_York:20260606T180000
DTSTAMP:20260422T121055
CREATED:20260330T042257Z
LAST-MODIFIED:20260419T203452Z
UID:81433-1780734600-1780768800@stjosephbogota.org
SUMMARY:CH: Open for Private Prayer
DESCRIPTION:
URL:https://stjosephbogota.org/event/ch-open-for-private-prayer-732/
END:VEVENT
BEGIN:VEVENT
DTSTART;TZID=America/New_York:20260606T153000
DTEND;TZID=America/New_York:20260606T161500
DTSTAMP:20260422T121055
CREATED:20260330T042257Z
LAST-MODIFIED:20260419T203452Z
UID:81431-1780759800-1780762500@stjosephbogota.org
SUMMARY:CH: Confessions
DESCRIPTION:Please wait in the line at the back of the church until the priest is available to hear your confession.
URL:https://stjosephbogota.org/event/ch-confessions-68/
END:VEVENT
BEGIN:VEVENT
DTSTART;TZID=America/New_York:20260606T170000
DTEND;TZID=America/New_York:20260606T180000
DTSTAMP:20260422T121055
CREATED:20260330T042257Z
LAST-MODIFIED:20260419T203506Z
UID:81434-1780765200-1780768800@stjosephbogota.org
SUMMARY:CH: Sunday Vigil Mass
DESCRIPTION:
URL:https://stjosephbogota.org/event/ch-sunday-vigil-mass-55/
END:VEVENT
BEGIN:VEVENT
DTSTART;TZID=America/New_York:20260606T180000
DTEND;TZID=America/New_York:20260606T190000
DTSTAMP:20260422T121055
CREATED:20260330T042257Z
LAST-MODIFIED:20260419T203506Z
UID:81432-1780768800-1780772400@stjosephbogota.org
SUMMARY:Corpus Christi Procession
DESCRIPTION:
URL:https://stjosephbogota.org/event/corpus-christi-procession-2/
ATTACH;FMTTYPE=image/jpeg:https://stjosephbogota.org/wp-content/uploads/2024/06/2024-06-01-Corpus-Christ-WU-09.jpg
END:VEVENT
BEGIN:VEVENT
DTSTART;TZID=America/New_York:20260606T194500
DTEND;TZID=America/New_York:20260606T200000
DTSTAMP:20260422T121055
CREATED:20260330T042257Z
LAST-MODIFIED:20260419T203506Z
UID:81436-1780775100-1780776000@stjosephbogota.org
SUMMARY:Busy
DESCRIPTION:
URL:https://stjosephbogota.org/event/busy-1133/
END:VEVENT
BEGIN:VEVENT
DTSTART;TZID=America/New_York:20260606T200000
DTEND;TZID=America/New_York:20260606T220000
DTSTAMP:20260422T121055
CREATED:20260330T042257Z
LAST-MODIFIED:20260419T203506Z
UID:81435-1780776000-1780783200@stjosephbogota.org
SUMMARY:CH: Neocatechumenal Way Eucharist
DESCRIPTION:
URL:https://stjosephbogota.org/event/ch-neocatechumenal-way-eucharist-69/
END:VEVENT
END:VCALENDAR