BEGIN:VCALENDAR
VERSION:2.0
PRODID:-//St. Joseph Church - ECPv5.11.0//NONSGML v1.0//EN
CALSCALE:GREGORIAN
METHOD:PUBLISH
X-WR-CALNAME:St. Joseph Church
X-ORIGINAL-URL:https://stjosephbogota.org
X-WR-CALDESC:Events for St. Joseph Church
BEGIN:VTIMEZONE
TZID:America/New_York
BEGIN:DAYLIGHT
TZOFFSETFROM:-0500
TZOFFSETTO:-0400
TZNAME:EDT
DTSTART:20260308T070000
END:DAYLIGHT
BEGIN:STANDARD
TZOFFSETFROM:-0400
TZOFFSETTO:-0500
TZNAME:EST
DTSTART:20261101T060000
END:STANDARD
END:VTIMEZONE
BEGIN:VEVENT
DTSTART;TZID=America/New_York:20260609T074500
DTEND;TZID=America/New_York:20260609T080000
DTSTAMP:20260422T164300
CREATED:20260330T042320Z
LAST-MODIFIED:20260419T203520Z
UID:81449-1780991100-1780992000@stjosephbogota.org
SUMMARY:CH: Morning Prayer
DESCRIPTION:
URL:https://stjosephbogota.org/event/ch-morning-prayer-299/
END:VEVENT
BEGIN:VEVENT
DTSTART;TZID=America/New_York:20260609T080000
DTEND;TZID=America/New_York:20260609T083000
DTSTAMP:20260422T164300
CREATED:20260330T042309Z
LAST-MODIFIED:20260419T203520Z
UID:81448-1780992000-1780993800@stjosephbogota.org
SUMMARY:CH: Daily Mass
DESCRIPTION:
URL:https://stjosephbogota.org/event/ch-daily-mass-410/
END:VEVENT
BEGIN:VEVENT
DTSTART;TZID=America/New_York:20260609T083000
DTEND;TZID=America/New_York:20260609T160000
DTSTAMP:20260422T164300
CREATED:20260330T042321Z
LAST-MODIFIED:20260419T203520Z
UID:81450-1780993800-1781020800@stjosephbogota.org
SUMMARY:CH: Open for Private Prayer
DESCRIPTION:
URL:https://stjosephbogota.org/event/ch-open-for-private-prayer-734/
END:VEVENT
BEGIN:VEVENT
DTSTART;TZID=America/New_York:20260609T083000
DTEND;TZID=America/New_York:20260609T093000
DTSTAMP:20260422T164300
CREATED:20260330T042321Z
LAST-MODIFIED:20260419T203520Z
UID:81451-1780993800-1780997400@stjosephbogota.org
SUMMARY:CH: Holy Hour and Rosary
DESCRIPTION:
URL:https://stjosephbogota.org/event/ch-holy-hour-and-rosary-443/
END:VEVENT
BEGIN:VEVENT
DTSTART;TZID=America/New_York:20260609T190000
DTEND;TZID=America/New_York:20260609T210000
DTSTAMP:20260422T164300
CREATED:20250718T231456Z
LAST-MODIFIED:20260422T055827Z
UID:74405-1781031600-1781038800@stjosephbogota.org
SUMMARY:RCR: Liturgy/Spiritual Life Meeting
DESCRIPTION:
URL:https://stjosephbogota.org/event/rcr-liturgy-spiritual-life-meeting-10/
END:VEVENT
BEGIN:VEVENT
DTSTART;TZID=America/New_York:20260609T201500
DTEND;TZID=America/New_York:20260609T203000
DTSTAMP:20260422T164300
CREATED:20260330T042321Z
LAST-MODIFIED:20260419T203533Z
UID:81452-1781036100-1781037000@stjosephbogota.org
SUMMARY:Busy
DESCRIPTION:
URL:https://stjosephbogota.org/event/busy-1134/
END:VEVENT
BEGIN:VEVENT
DTSTART;TZID=America/New_York:20260609T203000
DTEND;TZID=America/New_York:20260609T223000
DTSTAMP:20260422T164300
CREATED:20260330T042321Z
LAST-MODIFIED:20260419T203533Z
UID:81453-1781037000-1781044200@stjosephbogota.org
SUMMARY:CH: Neocatechumenal Way Meeting
DESCRIPTION:
URL:https://stjosephbogota.org/event/ch-neocatechumenal-way-meeting-65/
END:VEVENT
END:VCALENDAR