BEGIN:VCALENDAR
VERSION:2.0
PRODID:-//St. Joseph Church - ECPv5.11.0//NONSGML v1.0//EN
CALSCALE:GREGORIAN
METHOD:PUBLISH
X-WR-CALNAME:St. Joseph Church
X-ORIGINAL-URL:https://stjosephbogota.org
X-WR-CALDESC:Events for St. Joseph Church
BEGIN:VTIMEZONE
TZID:America/New_York
BEGIN:DAYLIGHT
TZOFFSETFROM:-0500
TZOFFSETTO:-0400
TZNAME:EDT
DTSTART:20260308T070000
END:DAYLIGHT
BEGIN:STANDARD
TZOFFSETFROM:-0400
TZOFFSETTO:-0500
TZNAME:EST
DTSTART:20261101T060000
END:STANDARD
END:VTIMEZONE
BEGIN:VEVENT
DTSTART;TZID=America/New_York:20260613T074500
DTEND;TZID=America/New_York:20260613T080000
DTSTAMP:20260422T232006
CREATED:20260330T042336Z
LAST-MODIFIED:20260422T212144Z
UID:81468-1781336700-1781337600@stjosephbogota.org
SUMMARY:CH: Morning Prayer
DESCRIPTION:
URL:https://stjosephbogota.org/event/ch-morning-prayer-303/
END:VEVENT
BEGIN:VEVENT
DTSTART;TZID=America/New_York:20260613T080000
DTEND;TZID=America/New_York:20260613T083000
DTSTAMP:20260422T232006
CREATED:20260330T042335Z
LAST-MODIFIED:20260422T212144Z
UID:81467-1781337600-1781339400@stjosephbogota.org
SUMMARY:CH: Daily Mass
DESCRIPTION:
URL:https://stjosephbogota.org/event/ch-daily-mass-414/
END:VEVENT
BEGIN:VEVENT
DTSTART;TZID=America/New_York:20260613T083000
DTEND;TZID=America/New_York:20260613T180000
DTSTAMP:20260422T232006
CREATED:20260330T042335Z
LAST-MODIFIED:20260422T212156Z
UID:81466-1781339400-1781373600@stjosephbogota.org
SUMMARY:CH: Open for Private Prayer
DESCRIPTION:
URL:https://stjosephbogota.org/event/ch-open-for-private-prayer-738/
END:VEVENT
BEGIN:VEVENT
DTSTART;TZID=America/New_York:20260613T083000
DTEND;TZID=America/New_York:20260613T093000
DTSTAMP:20260422T232006
CREATED:20260330T042348Z
LAST-MODIFIED:20260422T212156Z
UID:81469-1781339400-1781343000@stjosephbogota.org
SUMMARY:CH: Holy Hour and Rosary
DESCRIPTION:
URL:https://stjosephbogota.org/event/ch-holy-hour-and-rosary-447/
END:VEVENT
BEGIN:VEVENT
DTSTART;TZID=America/New_York:20260613T153000
DTEND;TZID=America/New_York:20260613T161500
DTSTAMP:20260422T232006
CREATED:20260330T042348Z
LAST-MODIFIED:20260422T212156Z
UID:81470-1781364600-1781367300@stjosephbogota.org
SUMMARY:CH: Confessions
DESCRIPTION:Please wait in the line at the back of the church until the priest is available to hear your confession.
URL:https://stjosephbogota.org/event/ch-confessions-69/
END:VEVENT
BEGIN:VEVENT
DTSTART;TZID=America/New_York:20260613T170000
DTEND;TZID=America/New_York:20260613T180000
DTSTAMP:20260422T232006
CREATED:20260330T042348Z
LAST-MODIFIED:20260422T212156Z
UID:81471-1781370000-1781373600@stjosephbogota.org
SUMMARY:CH: Sunday Vigil Mass
DESCRIPTION:
URL:https://stjosephbogota.org/event/ch-sunday-vigil-mass-56/
END:VEVENT
BEGIN:VEVENT
DTSTART;TZID=America/New_York:20260613T194500
DTEND;TZID=America/New_York:20260613T200000
DTSTAMP:20260422T232006
CREATED:20260330T042348Z
LAST-MODIFIED:20260422T212156Z
UID:81472-1781379900-1781380800@stjosephbogota.org
SUMMARY:Busy
DESCRIPTION:
URL:https://stjosephbogota.org/event/busy-1135/
END:VEVENT
BEGIN:VEVENT
DTSTART;TZID=America/New_York:20260613T200000
DTEND;TZID=America/New_York:20260613T220000
DTSTAMP:20260422T232006
CREATED:20260330T042349Z
LAST-MODIFIED:20260422T212156Z
UID:81473-1781380800-1781388000@stjosephbogota.org
SUMMARY:CH: Neocatechumenal Way Eucharist
DESCRIPTION:
URL:https://stjosephbogota.org/event/ch-neocatechumenal-way-eucharist-70/
END:VEVENT
END:VCALENDAR