BEGIN:VCALENDAR
VERSION:2.0
PRODID:-//St. Joseph Church - ECPv5.11.0//NONSGML v1.0//EN
CALSCALE:GREGORIAN
METHOD:PUBLISH
X-WR-CALNAME:St. Joseph Church
X-ORIGINAL-URL:https://stjosephbogota.org
X-WR-CALDESC:Events for St. Joseph Church
BEGIN:VTIMEZONE
TZID:America/New_York
BEGIN:DAYLIGHT
TZOFFSETFROM:-0500
TZOFFSETTO:-0400
TZNAME:EDT
DTSTART:20260308T070000
END:DAYLIGHT
BEGIN:STANDARD
TZOFFSETFROM:-0400
TZOFFSETTO:-0500
TZNAME:EST
DTSTART:20261101T060000
END:STANDARD
END:VTIMEZONE
BEGIN:VEVENT
DTSTART;TZID=America/New_York:20260520T193000
DTEND;TZID=America/New_York:20260520T210000
DTSTAMP:20260425T094210
CREATED:20250718T221458Z
LAST-MODIFIED:20260424T154140Z
UID:73813-1779305400-1779310800@stjosephbogota.org
SUMMARY:CAF: Combined Jr. / Sr. High Youth Ministry
DESCRIPTION:Combined Junior / Senior High Youth ministry event
URL:https://stjosephbogota.org/event/caf-combined-junior-senior-high-youth-ministry-2/
CATEGORIES:Junior High Youth Group,Senior High Youth Group,Youth Group Common
ATTACH;FMTTYPE=image/png:https://stjosephbogota.org/wp-content/uploads/2024/09/SJYM-2024-Logo-Updated.png
END:VEVENT
END:VCALENDAR