BEGIN:VCALENDAR
VERSION:2.0
PRODID:-//St. Joseph Church - ECPv5.11.0//NONSGML v1.0//EN
CALSCALE:GREGORIAN
METHOD:PUBLISH
X-WR-CALNAME:St. Joseph Church
X-ORIGINAL-URL:https://stjosephbogota.org
X-WR-CALDESC:Events for St. Joseph Church
BEGIN:VTIMEZONE
TZID:America/New_York
BEGIN:DAYLIGHT
TZOFFSETFROM:-0500
TZOFFSETTO:-0400
TZNAME:EDT
DTSTART:20250309T070000
END:DAYLIGHT
BEGIN:STANDARD
TZOFFSETFROM:-0400
TZOFFSETTO:-0500
TZNAME:EST
DTSTART:20251102T060000
END:STANDARD
END:VTIMEZONE
BEGIN:VEVENT
DTSTART;TZID=America/New_York:20250518T090000
DTEND;TZID=America/New_York:20250518T092000
DTSTAMP:20260425T093722
CREATED:20250430T125006Z
LAST-MODIFIED:20250517T132953Z
UID:70995-1747558800-1747560000@stjosephbogota.org
SUMMARY:Grotto: Family Rosary
DESCRIPTION:Come and Pray the Holy Rosary with us! We invite our St Joseph Families to join us as we pray the Rosary after each of the 5pm\, 8am\, 10am and 12noon Masses at the Blessed Mother Grotto. Each family will be given a rosary to take home with them. All rosaries will be blessed before prayer begins. Come join us as we pray this very special and wonderful devotion.
URL:https://stjosephbogota.org/event/grotto-family-rosary-50/
CATEGORIES:Family Rosary
ATTACH;FMTTYPE=image/jpeg:https://stjosephbogota.org/wp-content/uploads/2021/11/Family-Rosary-2.jpg
END:VEVENT
BEGIN:VEVENT
DTSTART;TZID=America/New_York:20250518T110000
DTEND;TZID=America/New_York:20250518T112000
DTSTAMP:20260425T093722
CREATED:20250430T125006Z
LAST-MODIFIED:20250518T132855Z
UID:70996-1747566000-1747567200@stjosephbogota.org
SUMMARY:Grotto: Family Rosary
DESCRIPTION:Come and Pray the Holy Rosary with us! We invite our St Joseph Families to join us as we pray the Rosary after each of the 5pm\, 8am\, 10am and 12noon Masses at the Blessed Mother Grotto. Each family will be given a rosary to take home with them. All rosaries will be blessed before prayer begins. Come join us as we pray this very special and wonderful devotion.
URL:https://stjosephbogota.org/event/grotto-family-rosary-51/
CATEGORIES:Family Rosary
ATTACH;FMTTYPE=image/jpeg:https://stjosephbogota.org/wp-content/uploads/2021/11/Family-Rosary-2.jpg
END:VEVENT
BEGIN:VEVENT
DTSTART;TZID=America/New_York:20250518T130000
DTEND;TZID=America/New_York:20250518T132000
DTSTAMP:20260425T093722
CREATED:20250430T125006Z
LAST-MODIFIED:20250518T132855Z
UID:70997-1747573200-1747574400@stjosephbogota.org
SUMMARY:Grotto: Family Rosary
DESCRIPTION:¡Vengan a rezar el Santo Rosario con nosotros! Invitamos a nuestras familias de San José a unirse a nosotros para rezar el Rosario después de cada una de las Misas de las 5 pm\, 8 am\, 10 am y 12 pm en la Gruta de la Santísima Madre. Se le dará un rosario a cada familia para que se lo lleve a casa. Todos los rosarios serán bendecidos antes de que comience la oración. Vengan y únanse a nosotros mientras rezamos esta devoción tan especial y maravillosa.
URL:https://stjosephbogota.org/event/grotto-family-rosary-52/
CATEGORIES:Family Rosary
ATTACH;FMTTYPE=image/jpeg:https://stjosephbogota.org/wp-content/uploads/2021/11/Family-Rosary-2.jpg
END:VEVENT
END:VCALENDAR